{ "currentVersion": 10.81, "cimVersion": "2.6.0", "serviceDescription": "
Infraestructura JBB<\/SPAN><\/P><\/DIV>",
"mapName": "InfraestructuraJBB",
"description": " Infraestructura JBB<\/SPAN><\/P><\/DIV>",
"copyrightText": "Jardín botánico José Celestino Mutis",
"supportsDynamicLayers": true,
"layers": [
{
"id": 0,
"name": "Caminos",
"parentLayerId": -1,
"defaultVisibility": true,
"subLayerIds": null,
"minScale": 6000,
"maxScale": 10,
"type": "Feature Layer",
"geometryType": "esriGeometryPolygon",
"supportsDynamicLegends": true
},
{
"id": 1,
"name": "CuerposAgua",
"parentLayerId": -1,
"defaultVisibility": true,
"subLayerIds": null,
"minScale": 6000,
"maxScale": 10,
"type": "Feature Layer",
"geometryType": "esriGeometryPolygon",
"supportsDynamicLegends": true
},
{
"id": 3,
"name": "Zonas",
"parentLayerId": -1,
"defaultVisibility": true,
"subLayerIds": null,
"minScale": 6000,
"maxScale": 10,
"type": "Feature Layer",
"geometryType": "esriGeometryPolygon",
"supportsDynamicLegends": true
},
{
"id": 2,
"name": "DetallesTropicario",
"parentLayerId": -1,
"defaultVisibility": true,
"subLayerIds": null,
"minScale": 6000,
"maxScale": 10,
"type": "Feature Layer",
"geometryType": "esriGeometryPolygon",
"supportsDynamicLegends": true
}
],
"tables": [],
"spatialReference": {
"wkid": 102100,
"latestWkid": 3857,
"xyTolerance": 0.001,
"zTolerance": 0.001,
"mTolerance": 0.001,
"falseX": -20037700,
"falseY": -30241100,
"xyUnits": 10000,
"falseZ": -100000,
"zUnits": 10000,
"falseM": -100000,
"mUnits": 10000
},
"singleFusedMapCache": true,
"tileInfo": {
"rows": 256,
"cols": 256,
"dpi": 96,
"format": "PNG",
"compressionQuality": 0,
"origin": {
"x": -2.0037508342787E7,
"y": 2.0037508342787E7
},
"spatialReference": {
"wkid": 102100,
"latestWkid": 3857,
"xyTolerance": 0.001,
"zTolerance": 0.001,
"mTolerance": 0.001,
"falseX": -20037700,
"falseY": -30241100,
"xyUnits": 10000,
"falseZ": -100000,
"zUnits": 10000,
"falseM": -100000,
"mUnits": 10000
},
"lods": [
{
"level": 0,
"resolution": 2.116670900008467,
"scale": 8000
},
{
"level": 1,
"resolution": 1.0583354500042335,
"scale": 4000
},
{
"level": 2,
"resolution": 0.5291677250021167,
"scale": 2000
},
{
"level": 3,
"resolution": 0.26458386250105836,
"scale": 1000
},
{
"level": 4,
"resolution": 0.13229193125052918,
"scale": 500
},
{
"level": 5,
"resolution": 0.06614596562526459,
"scale": 250
},
{
"level": 6,
"resolution": 0.05291677250021167,
"scale": 200
},
{
"level": 7,
"resolution": 0.03968757937515875,
"scale": 150
},
{
"level": 8,
"resolution": 0.026458386250105836,
"scale": 100
},
{
"level": 9,
"resolution": 0.013229193125052918,
"scale": 50
},
{
"level": 10,
"resolution": 0.006614596562526459,
"scale": 25
}
]
},
"initialExtent": {
"xmin": -8248817.2266900325,
"ymin": 520173.8852788705,
"xmax": -8248750.5550140785,
"ymax": 520234.05528429785,
"spatialReference": {
"cs": "pcs",
"wkid": 102100
}
},
"fullExtent": {
"xmin": -8249143.10565566,
"ymin": 519925.31309295964,
"xmax": -8248484.736555818,
"ymax": 520481.0464415149,
"spatialReference": {
"cs": "pcs",
"wkid": 102100
}
},
"minScale": 5.91657527591555E8,
"maxScale": 4513.988705,
"units": "esriMeters",
"supportedImageFormatTypes": "PNG32,PNG24,PNG,JPG,DIB,TIFF,EMF,PS,PDF,GIF,SVG,SVGZ,BMP",
"documentInfo": {
"Title": "Infraestructura JBB",
"Author": "",
"Comments": " Infraestructura JBB<\/SPAN><\/P><\/DIV>",
"Subject": "Infraestructura JBB",
"Category": "",
"AntialiasingMode": "Fast",
"TextAntialiasingMode": "Force",
"Keywords": "Infraestructura,Jardín"
},
"supportsQueryDomains": true,
"capabilities": "Map,Query,Data",
"supportedQueryFormats": "JSON, geoJSON, PBF",
"exportTilesAllowed": true,
"maxExportTilesCount": 100000,
"referenceScale": 1000.0,
"datumTransformations": [
{
"geoTransforms": [
{
"wkid": 15737,
"latestWkid": 15737,
"transformForward": false,
"name": "Bogota_To_MAGNA_Region_8_MB"
},
{
"wkid": 8025,
"latestWkid": 1125,
"transformForward": true,
"name": "Bogota_To_WGS_1984"
}
]
},
{
"geoTransforms": [
{
"wkid": 8025,
"latestWkid": 1125,
"transformForward": false,
"name": "Bogota_To_WGS_1984"
},
{
"wkid": 15737,
"latestWkid": 15737,
"transformForward": true,
"name": "Bogota_To_MAGNA_Region_8_MB"
}
]
}
],
"supportsDatumTransformation": true,
"archivingInfo": {"supportsHistoricMoment": false},
"supportsClipping": true,
"supportsSpatialFilter": true,
"supportsQueryDataElements": true,
"maxRecordCount": 2000,
"maxImageHeight": 4096,
"maxImageWidth": 4096,
"supportedExtensions": "",
"resampling": false,
"serviceItemId": "f0e2dcdbf6e94923850036c3f369147c"
}