{
 "currentVersion": 11.5,
 "cimVersion": "3.5.0",
 "serviceDescription": " Ortofoto multiespectral del Jardín Botánico de Bogotá. Imagen de dron. Año 2026.<\/span><\/p><\/div>",
 "mapName": "ImagenMultiespectral_JBB",
 "description": "Ortofoto multiespectral del Jardín Botánico de Bogotá. Imagen de dron. Año 2026.",
 "copyrightText": "Jardín botanico de Bogotá José Celestino Mutis",
 "supportsDynamicLayers": true,
 "layers": [
  {
   "id": 0,
   "name": "Imagen Multiespectral JBB",
   "parentLayerId": -1,
   "defaultVisibility": true,
   "subLayerIds": null,
   "minScale": 0,
   "maxScale": 0,
   "type": "Raster Layer",
   "supportsDynamicLegends": true
  }
 ],
 "tables": [],
 "spatialReference": {
  "wkid": 4686,
  "latestWkid": 4686,
  "xyTolerance": 8.983152841195215E-9,
  "zTolerance": 0.001,
  "mTolerance": 0.001,
  "falseX": -400,
  "falseY": -400,
  "xyUnits": 9.999999999999999E8,
  "falseZ": -100000,
  "zUnits": 10000,
  "falseM": -100000,
  "mUnits": 10000
 },
 "singleFusedMapCache": true,
 "tileInfo": {
  "rows": 256,
  "cols": 256,
  "dpi": 96,
  "format": "Mixed",
  "compressionQuality": 75,
  "origin": {
   "x": -179.99999999999983,
   "y": 179.99999999999983
  },
  "spatialReference": {
   "wkid": 4686,
   "latestWkid": 4686,
   "xyTolerance": 8.983152841195215E-9,
   "zTolerance": 0.001,
   "mTolerance": 0.001,
   "falseX": -400,
   "falseY": -400,
   "xyUnits": 9.999999999999999E8,
   "falseZ": -100000,
   "zUnits": 10000,
   "falseM": -100000,
   "mUnits": 10000
  },
  "lods": [
   {
    "level": 0,
    "resolution": 1.4062499999999987,
    "scale": 5.916587109091305E8
   },
   {
    "level": 1,
    "resolution": 0.7031249999999993,
    "scale": 2.958293554545652E8
   },
   {
    "level": 2,
    "resolution": 0.35156249999999967,
    "scale": 1.479146777272826E8
   },
   {
    "level": 3,
    "resolution": 0.17578124999999983,
    "scale": 7.39573388636413E7
   },
   {
    "level": 4,
    "resolution": 0.08789062499999992,
    "scale": 3.697866943182065E7
   },
   {
    "level": 5,
    "resolution": 0.04394531249999996,
    "scale": 1.8489334715910327E7
   },
   {
    "level": 6,
    "resolution": 0.02197265624999998,
    "scale": 9244667.357955163
   },
   {
    "level": 7,
    "resolution": 0.01098632812499999,
    "scale": 4622333.678977582
   },
   {
    "level": 8,
    "resolution": 0.005493164062499995,
    "scale": 2311166.839488791
   },
   {
    "level": 9,
    "resolution": 0.0027465820312499974,
    "scale": 1155583.4197443954
   },
   {
    "level": 10,
    "resolution": 0.0013732910156249987,
    "scale": 577791.7098721977
   },
   {
    "level": 11,
    "resolution": 6.866455078124993E-4,
    "scale": 288895.85493609885
   },
   {
    "level": 12,
    "resolution": 3.433227539062497E-4,
    "scale": 144447.92746804943
   },
   {
    "level": 13,
    "resolution": 1.7166137695312484E-4,
    "scale": 72223.96373402471
   },
   {
    "level": 14,
    "resolution": 8.583068847656242E-5,
    "scale": 36111.98186701236
   },
   {
    "level": 15,
    "resolution": 4.291534423828121E-5,
    "scale": 18055.99093350618
   },
   {
    "level": 16,
    "resolution": 2.1457672119140605E-5,
    "scale": 9027.99546675309
   },
   {
    "level": 17,
    "resolution": 1.0728836059570302E-5,
    "scale": 4513.997733376545
   },
   {
    "level": 18,
    "resolution": 5.364418029785151E-6,
    "scale": 2256.9988666882723
   },
   {
    "level": 19,
    "resolution": 2.6822090148925756E-6,
    "scale": 1128.4994333441362
   },
   {
    "level": 20,
    "resolution": 1.3411045074462878E-6,
    "scale": 564.2497166720681
   },
   {
    "level": 21,
    "resolution": 6.705522537231439E-7,
    "scale": 282.12485833603404
   },
   {
    "level": 22,
    "resolution": 3.3527612686157195E-7,
    "scale": 141.06242916801702
   },
   {
    "level": 23,
    "resolution": 1.6763806343078597E-7,
    "scale": 70.53121458400851
   }
  ]
 },
 "storageInfo": {
  "storageFormat": "esriMapCacheStorageModeCompactV2",
  "packetSize": 128
 },
 "initialExtent": {
  "xmin": -74.10244093501164,
  "ymin": 4.66617774822865,
  "xmax": -74.09742113916438,
  "ymax": 4.670028159816031,
  "spatialReference": {
   "cs": "gcs",
   "wkid": 4686
  }
 },
 "fullExtent": {
  "xmin": -74.10341668990857,
  "ymin": 4.665319763744565,
  "xmax": -74.0965261868427,
  "ymax": 4.670400912662542,
  "spatialReference": {
   "cs": "gcs",
   "wkid": 4686
  }
 },
 "datesInUnknownTimezone": false,
 "minScale": 5.916587109091305E8,
 "maxScale": 70.53121458400851,
 "minLOD": 2,
 "maxLOD": 23,
 "units": "esriDecimalDegrees",
 "supportedImageFormatTypes": "PNG32,PNG24,PNG,JPG,DIB,TIFF,EMF,PS,PDF,GIF,SVG,SVGZ,BMP",
 "documentInfo": {
  "Title": "Imagen_Multiespectral_JBB",
  "Author": "",
  "Comments": "Ortofoto multiespectral del Jardín Botánico de Bogotá. Imagen de dron. Año 2026.",
  "Subject": "Ortofoto multiespectral del Jardín Botánico de Bogotá. Imagen de dron. Año 2026.",
  "Category": "",
  "Version": "3.5.0",
  "AntialiasingMode": "Fast",
  "TextAntialiasingMode": "Force",
  "Keywords": "ortofoto,Jardín Botánico,JBB,Bogotá"
 },
 "supportsQueryDomains": true,
 "capabilities": "Map,Query,Data,TileMap",
 "supportedQueryFormats": "JSON, geoJSON, PBF",
 "exportTilesAllowed": false,
 "referenceScale": 0.0,
 "datumTransformations": [
  {
   "geoTransforms": [
    {
     "wkid": 15738,
     "latestWkid": 15738,
     "transformForward": false,
     "name": "MAGNA_To_WGS_1984_1"
    }
   ]
  },
  {
   "geoTransforms": [
    {
     "wkid": 15738,
     "latestWkid": 15738,
     "transformForward": true,
     "name": "MAGNA_To_WGS_1984_1"
    }
   ]
  },
  {
   "geoTransforms": [
    {
     "wkid": 15738,
     "latestWkid": 15738,
     "transformForward": false,
     "name": "MAGNA_To_WGS_1984_1"
    }
   ]
  },
  {
   "geoTransforms": [
    {
     "wkid": 15738,
     "latestWkid": 15738,
     "transformForward": true,
     "name": "MAGNA_To_WGS_1984_1"
    }
   ]
  }
 ],
 "supportsDatumTransformation": true,
 "archivingInfo": {
  "supportsHistoricMoment": false
 },
 "supportsClipping": true,
 "supportsSpatialFilter": true,
 "supportsTimeRelation": true,
 "supportsQueryDataElements": true,
 "mapUnits": {
  "uwkid": 9102
 },
 "maxSelectionCount": 2000,
 "maxRecordCount": 20000,
 "maxImageHeight": 4096,
 "maxImageWidth": 4096,
 "supportedExtensions": "WMSServer",
 "serviceItemId": "f371882553e042b58c0a00c352122396"
}
