View In:
ArcGIS JavaScript
ArcGIS Online Map Viewer
ArcGIS Earth
ArcMap
ArcGIS Pro
View Footprint In:
ArcGIS Online Map Viewer
Service Description: Ráster de densidad del arbolado urbano de Bogotá D.C. del año 2021, que muestra la cantidad de árboles en un pixel de tamaño 100 metros x 100 metros.
Map Name: rasterdensidadarbolado2021
Legend
All Layers and Tables
Dynamic Legend
Dynamic All Layers
Layers:
Description: Ráster de densidad del arbolado urbano de Bogotá D.C. del año 2021, que muestra la cantidad de árboles en un pixel de tamaño 100 metros x 100 metros.
Service Item Id: e1193b25f2954b29b306d940cfaadf85
Copyright Text: Jardín Botánico José Celestino Mutis
Spatial Reference:
102100
(3857)
Single Fused Map Cache: true
Tile Info:
- Height: 256
- Width: 256
- DPI: 96
-
Levels of Detail: 24
-
Level ID: 0
[ Start Tile, End Tile ]
- Resolution: 156543.03392800014
- Scale: 5.91657527591555E8
-
Level ID: 1
[ Start Tile, End Tile ]
- Resolution: 78271.51696399994
- Scale: 2.95828763795777E8
-
Level ID: 2
[ Start Tile, End Tile ]
- Resolution: 39135.75848200009
- Scale: 1.47914381897889E8
-
Level ID: 3
[ Start Tile, End Tile ]
- Resolution: 19567.87924099992
- Scale: 7.3957190948944E7
-
Level ID: 4
[ Start Tile, End Tile ]
- Resolution: 9783.93962049996
- Scale: 3.6978595474472E7
-
Level ID: 5
[ Start Tile, End Tile ]
- Resolution: 4891.96981024998
- Scale: 1.8489297737236E7
- Format: PNG
- Compression Quality: 0.0
- Origin: X: -2.0037508342787E7
Y: 2.0037508342787E7
- Spatial Reference: 102100
(3857)
Initial Extent:
XMin: -8280639.197357775
YMin: 500971.0793282223
XMax: -8220605.86159131
YMax: 534877.2275573268
Spatial Reference: 102100
Full Extent:
XMin: NaN
YMin: NaN
XMax: NaN
YMax: NaN
Spatial Reference: 102100
Units: esriMeters
Supported Image Format Types: PNG32,PNG24,PNG,JPG,DIB,TIFF,EMF,PS,PDF,GIF,SVG,SVGZ,BMP
Document Info:
Title: densidadarbolado2021
Author: Jardín Botánico José Celestino Mutis
Comments: Ráster de densidad del arbolado urbano de Bogotá D.C. del año 2021, que muestra la cantidad de árboles en un pixel de tamaño 100 metros x 100 metros.
Subject: Ráster de densidad del arbolado urbano de Bogotá D.C. del año 2021.
Category:
Keywords: arbolado,urbano,densidad
AntialiasingMode: None
TextAntialiasingMode: Force
Supports Dynamic Layers: true
MaxRecordCount: 1000
MaxImageHeight: 4096
MaxImageWidth: 4096
Supported Query Formats: JSON, geoJSON
Supports Query Data Elements:
Min Scale: 1.8489297737236E7
Max Scale: 4513.988705
Min LOD: 5
Max LOD: 17
Supports Datum Transformation: true
Child Resources:
Info
Dynamic Layer
Supported Operations:
Export Map
Identify
QueryDomains
QueryLegends
Find
Return Updates