View In:
ArcGIS JavaScript
ArcGIS Online Map Viewer
ArcGIS Earth
ArcGIS Pro
Service Description: <div style='text-align:Left;font-size:12pt'><p><span>Ortofoto multiespectral del Jardín Botánico de Bogotá. Imagen de dron. Año 2026.</span></p></div>
Map Name: ImagenMultiespectral_JBB
Legend
All Layers and Tables
Dynamic Legend
Dynamic All Layers
Layers:
Description: Ortofoto multiespectral del Jardín Botánico de Bogotá. Imagen de dron. Año 2026.
Service Item Id: f371882553e042b58c0a00c352122396
Copyright Text: Jardín botanico de Bogotá José Celestino Mutis
Spatial Reference:
4686
(4686)
LatestVCSWkid(0)
Single Fused Map Cache: true
Tile Info:
- Height: 256.0
- Width: 256.0
- DPI: 96.0
-
Levels of Detail: 24
-
Level ID: 0
[ Start Tile, End Tile ]
- Resolution: 1.4062499999999987
- Scale: 5.916587109091305E8
-
Level ID: 1
[ Start Tile, End Tile ]
- Resolution: 0.7031249999999993
- Scale: 2.958293554545652E8
-
Level ID: 2
[ Start Tile, End Tile ]
- Resolution: 0.35156249999999967
- Scale: 1.479146777272826E8
-
Level ID: 3
[ Start Tile, End Tile ]
- Resolution: 0.17578124999999983
- Scale: 7.39573388636413E7
-
Level ID: 4
[ Start Tile, End Tile ]
- Resolution: 0.08789062499999992
- Scale: 3.697866943182065E7
-
Level ID: 5
[ Start Tile, End Tile ]
- Resolution: 0.04394531249999996
- Scale: 1.8489334715910327E7
-
Level ID: 6
[ Start Tile, End Tile ]
- Resolution: 0.02197265624999998
- Scale: 9244667.357955163
-
Level ID: 7
[ Start Tile, End Tile ]
- Resolution: 0.01098632812499999
- Scale: 4622333.678977582
-
Level ID: 8
[ Start Tile, End Tile ]
- Resolution: 0.005493164062499995
- Scale: 2311166.839488791
-
Level ID: 9
[ Start Tile, End Tile ]
- Resolution: 0.0027465820312499974
- Scale: 1155583.4197443954
-
Level ID: 10
[ Start Tile, End Tile ]
- Resolution: 0.0013732910156249987
- Scale: 577791.7098721977
-
Level ID: 11
[ Start Tile, End Tile ]
- Resolution: 6.866455078124993E-4
- Scale: 288895.85493609885
-
Level ID: 12
[ Start Tile, End Tile ]
- Resolution: 3.433227539062497E-4
- Scale: 144447.92746804943
-
Level ID: 13
[ Start Tile, End Tile ]
- Resolution: 1.7166137695312484E-4
- Scale: 72223.96373402471
-
Level ID: 14
[ Start Tile, End Tile ]
- Resolution: 8.583068847656242E-5
- Scale: 36111.98186701236
-
Level ID: 15
[ Start Tile, End Tile ]
- Resolution: 4.291534423828121E-5
- Scale: 18055.99093350618
-
Level ID: 16
[ Start Tile, End Tile ]
- Resolution: 2.1457672119140605E-5
- Scale: 9027.99546675309
-
Level ID: 17
[ Start Tile, End Tile ]
- Resolution: 1.0728836059570302E-5
- Scale: 4513.997733376545
-
Level ID: 18
[ Start Tile, End Tile ]
- Resolution: 5.364418029785151E-6
- Scale: 2256.9988666882723
-
Level ID: 19
[ Start Tile, End Tile ]
- Resolution: 2.6822090148925756E-6
- Scale: 1128.4994333441362
-
Level ID: 20
[ Start Tile, End Tile ]
- Resolution: 1.3411045074462878E-6
- Scale: 564.2497166720681
-
Level ID: 21
[ Start Tile, End Tile ]
- Resolution: 6.705522537231439E-7
- Scale: 282.12485833603404
-
Level ID: 22
[ Start Tile, End Tile ]
- Resolution: 3.3527612686157195E-7
- Scale: 141.06242916801702
-
Level ID: 23
[ Start Tile, End Tile ]
- Resolution: 1.6763806343078597E-7
- Scale: 70.53121458400851
- Format: Mixed
- Compression Quality: 75.0
- Origin: X: -179.99999999999983
Y: 179.99999999999983
- Spatial Reference: 4686
(4686)
LatestVCSWkid(0)
Storage Info:
- Storage Format: esriMapCacheStorageModeCompactV2
- Packet Size: 128
Initial Extent:
XMin: -74.10244093501164
YMin: 4.66617774822865
XMax: -74.09742113916438
YMax: 4.670028159816031
Spatial Reference: 4686
(0)
LatestVCSWkid(0)
Full Extent:
XMin: -74.10341668990857
YMin: 4.665319763744565
XMax: -74.0965261868427
YMax: 4.670400912662542
Spatial Reference: 4686
(0)
LatestVCSWkid(0)
Units: esriDecimalDegrees
Supported Image Format Types: PNG32,PNG24,PNG,JPG,DIB,TIFF,EMF,PS,PDF,GIF,SVG,SVGZ,BMP
Document Info:
Title: Imagen_Multiespectral_JBB
Author:
Comments: Ortofoto multiespectral del Jardín Botánico de Bogotá. Imagen de dron. Año 2026.
Subject: Ortofoto multiespectral del Jardín Botánico de Bogotá. Imagen de dron. Año 2026.
Category:
Keywords: ortofoto,Jardín Botánico,JBB,Bogotá
AntialiasingMode: Fast
TextAntialiasingMode: Force
Supports Dynamic Layers: true
MaxRecordCount: 20000
MaxSelectionCount: 2000
MaxImageHeight: 4096
MaxImageWidth: 4096
Supported Query Formats: JSON, geoJSON, PBF
Supports Query Data Elements: true
Min Scale: 5.916587109091305E8
Max Scale: 70.53121458400851
Min LOD: 2
Max LOD: 23
Supports Datum Transformation: true
Child Resources:
Info
Dynamic Layer
Supported Operations:
Export Map
Identify
QueryLegends
QueryDomains
Find
Return Updates